BEGIN:VCALENDAR
VERSION:2.0
PRODID:-//Théâtre de Grand-Champ à Gland - ECPv6.15.20//NONSGML v1.0//EN
CALSCALE:GREGORIAN
METHOD:PUBLISH
X-WR-CALNAME:Théâtre de Grand-Champ à Gland
X-ORIGINAL-URL:https://www.grand-champ.ch
X-WR-CALDESC:Évènements pour Théâtre de Grand-Champ à Gland
REFRESH-INTERVAL;VALUE=DURATION:PT1H
X-Robots-Tag:noindex
X-PUBLISHED-TTL:PT1H
BEGIN:VTIMEZONE
TZID:Europe/Paris
BEGIN:DAYLIGHT
TZOFFSETFROM:+0100
TZOFFSETTO:+0200
TZNAME:CEST
DTSTART:20250330T010000
END:DAYLIGHT
BEGIN:STANDARD
TZOFFSETFROM:+0200
TZOFFSETTO:+0100
TZNAME:CET
DTSTART:20251026T010000
END:STANDARD
BEGIN:DAYLIGHT
TZOFFSETFROM:+0100
TZOFFSETTO:+0200
TZNAME:CEST
DTSTART:20260329T010000
END:DAYLIGHT
BEGIN:STANDARD
TZOFFSETFROM:+0200
TZOFFSETTO:+0100
TZNAME:CET
DTSTART:20261025T010000
END:STANDARD
BEGIN:DAYLIGHT
TZOFFSETFROM:+0100
TZOFFSETTO:+0200
TZNAME:CEST
DTSTART:20270328T010000
END:DAYLIGHT
BEGIN:STANDARD
TZOFFSETFROM:+0200
TZOFFSETTO:+0100
TZNAME:CET
DTSTART:20271031T010000
END:STANDARD
END:VTIMEZONE
BEGIN:VEVENT
DTSTART;TZID=Europe/Paris:20260418T103000
DTEND;TZID=Europe/Paris:20260528T200000
DTSTAMP:20260422T003445
CREATED:20260416T090231Z
LAST-MODIFIED:20260416T090231Z
UID:10000109-1776508200-1779998400@www.grand-champ.ch
SUMMARY:Série TTP – Une rencontre éphémère - Hayahisa Tomiyasu
DESCRIPTION:Parallèlement aux projections\, Visions du Réel consacre cette année une exposition à la série TTP du photographe japonais Hayahisa Tomiyasu qui sera visible du 18 avril au 28 mai au Théâtre de Grand Champ\, à Gland. Au cœur de l’identité visuelle de la 57e édition de Visions du Réel\, la série TTP forme une collection photographique capturée par l’artiste japonais depuis la fenêtre de son appartement. Saluées par la critique\, les images mettent en scène une table de ping-pong dans un espace urbain\, dont la composition visuelle varie au fil du temps et au gré des saisons. En enregistrant pendant cinq ans la vie autour d’une seule et même table de ping-pong\, Hayahisa Tomiyasu l’appréhende non seulement dans son statut de décor mais aussi en tant que témoin du passage du temps. Les affiches du Festival empruntent certaines de ces photographies qui\, au-delà de la dimension sérielle et temporelle pouvant évoquer le cinéma\, témoignent de l’humour ou de l’absurdité qui parfois émanent du quotidien. Cette exposition s’inscrit dans la collaboration entre Visions du Réel\, la Ville de Gland et le Théâtre de Grand Champ ainsi que le studio de graphisme genevois Neo Neo. \nPlus d’informations sur l’exposition photo \nHoraires de l’exposition\nSamedi 18 avril 10:30 – 22:30 (Vernissage dès 18:30 en présence du photographe)\nDimanche 19 avril 10:30 – 22:00\nSamedi 25 avril 18:00 – 21:00\nDimanche 26 avril 16:00 – 19:00\nMercredi 29 avril 10:00 – 12:00 + 18:30 – 21:00\nJeudi 30 avril 13:30 – 16:30 + 18:00 – 20:00\nVendredi 1er mai 18:00 – 20:00\nSamedi 2 mai 18:00 – 20:00\nJeudi 7 mai 18:00 – 20:30\nDimanche 10 mai 10:00 – 12:00 + 16:00 – 18:00\nMercredi 13 mai 10:00 – 11:30 + 15:30 – 17:00\nMercredi 20 mai 18:00 – 20:00\nJeudi 21 mai 19:00 – 21:00\nMercredi 27 mai 10:00 – 12:00 + 18:30 – 21:00\nJeudi 28 mai 13:30 – 16:30 + 18:00 – 20:00
URL:https://www.grand-champ.ch/evenement/serie-ttp-une-rencontre-ephemere-hayahisa-tomiyasu/
LOCATION:Théâtre de Grand-Champ\, Chemin de la Serine 2\, Gland\, 1196
CATEGORIES:Expos,Festivals
ATTACH;FMTTYPE=image/jpeg:https://www.grand-champ.ch/wp-content/uploads/2026/03/VdR26_Affiche_Expo_Gland_A1_print-scaled.jpg
END:VEVENT
BEGIN:VEVENT
DTSTART;TZID=Europe/Paris:20260527T103000
DTEND;TZID=Europe/Paris:20260527T113000
DTSTAMP:20260422T003445
CREATED:20250807T125621Z
LAST-MODIFIED:20251106T082059Z
UID:10000049-1779877800-1779881400@www.grand-champ.ch
SUMMARY:Ciné-mini / Une guitare à la mer
DESCRIPTION:Un film d’animation de Sophie Roze \n2023\nFrance\nDurée  46 minutes\nDès 4 ans \nUne fouine\, dont le métier absurde consiste à faire du porte-à-porte pour vendre des cravates\, sillonne les routes de campagne. Considérée comme nuisible\, en perpétuelle errance\, elle décide de tenter sa chance dans la forêt. Son destin va alors changer grâce à l’aide inconditionnelle d’un hérisson et sa rencontre avec un Capybara. \nEn avant programme :\nUn caillou dans la chaussure\, 10’\nL’arrivée des Capybaras\, 10 \nRetrouvez ici le cahier d’activités en lien avec le film.  \nBilletterie
URL:https://www.grand-champ.ch/evenement/cine-mini-une-guitare-a-la-mer/
LOCATION:Théâtre de Grand-Champ\, Chemin de la Serine 2\, Gland\, 1196
CATEGORIES:1P-2P,Cinéma,crèches,Petite saison
ATTACH;FMTTYPE=image/png:https://www.grand-champ.ch/wp-content/uploads/2025/07/8.-cine-mini-scaled.png
END:VEVENT
BEGIN:VEVENT
DTSTART;TZID=Europe/Paris:20260527T190000
DTEND;TZID=Europe/Paris:20260527T220000
DTSTAMP:20260422T003445
CREATED:20250807T125651Z
LAST-MODIFIED:20250807T125651Z
UID:10000050-1779908400-1779919200@www.grand-champ.ch
SUMMARY:Ciné-actuel
DESCRIPTION:La programmation des Ciné-Actuel est révélée au fil de la saison\, en lien avec l’actualité cinématographique. Autant de films grand public que de films qui sortent des sentiers battus vous seront proposés cette saison\, pour éveiller votre curiosité et prendre du plaisir.   \nBilletterie
URL:https://www.grand-champ.ch/evenement/cine-actuel-6/
LOCATION:Théâtre de Grand-Champ\, Chemin de la Serine 2\, Gland\, 1196
CATEGORIES:Cinéma
ATTACH;FMTTYPE=image/png:https://www.grand-champ.ch/wp-content/uploads/2025/07/9.-cine-actuel-scaled.png
END:VEVENT
BEGIN:VEVENT
DTSTART;TZID=Europe/Paris:20260528T140000
DTEND;TZID=Europe/Paris:20260528T153000
DTSTAMP:20260422T003445
CREATED:20250807T125721Z
LAST-MODIFIED:20250807T125721Z
UID:10000051-1779976800-1779982200@www.grand-champ.ch
SUMMARY:Ciné-seniors
DESCRIPTION:La programmation des Ciné-Seniors se dévoile au fil de la saison\, en écho à l’actualité cinématographique. Succès populaires ou jolies découvertes\, vous seront proposés cette saison\, pour éveiller votre curiosité et prendre du plaisir.   \nÀ l’issue de chaque projection\, un goûter convivial est offert en collaboration avec Pro Senectute.  \nBilletterie
URL:https://www.grand-champ.ch/evenement/cine-seniors-6/
LOCATION:Théâtre de Grand-Champ\, Chemin de la Serine 2\, Gland\, 1196
CATEGORIES:Cinéma
ATTACH;FMTTYPE=image/png:https://www.grand-champ.ch/wp-content/uploads/2025/07/10.-cine-seniors-scaled.png
END:VEVENT
BEGIN:VEVENT
DTSTART;TZID=Europe/Paris:20260528T183000
DTEND;TZID=Europe/Paris:20260528T203000
DTSTAMP:20260422T003445
CREATED:20250818T071123Z
LAST-MODIFIED:20250818T071351Z
UID:10000064-1779993000-1780000200@www.grand-champ.ch
SUMMARY:The Clive
DESCRIPTION:Afterwork rock \nThe Clive\, groupe rock de Biel/Bienne\, secoue la scène avec un mélange explosif d’énergie brute\, de son accrocheur et d’humour décalé. Après leurs albums au nom savoureusement provocateur — Two Wrongs Don’t Make a Clive et A Blessing in This Clive — ils reviennent avec un single abrasif et raffiné qui promet de séduire fans fidèles et nouveaux venus. Connus pour leurs concerts survoltés\, ils allient riffs imparables\, esprit frondeur et une bonne dose d’autodérision. Bref\, impossible d’oublier The Clive avec leur énergie contagieuse !  \nChant : Malik / Guitare : Bastien / Basse : Julien / Batterie : Jason  \n  \n\n Les afterworks\, entièrement gratuits\, se tiennent au Foyer du Théâtre à 18h30. Ouverts à tous\, ils offrent un moment convivial pour partager musique et découvertes\, que ce soit entre amis\, en famille ou après une journée de travail.\n C’est aussi l’occasion de découvrir des artistes prometteurs qui ne manqueront pas de faire parler d’eux !  \nAucune réservation n’est requise : les portes ouvrent dès 18h\, et les premiers arrivés sont les premiers assis. 
URL:https://www.grand-champ.ch/evenement/the-clive/
CATEGORIES:Afterwork
ATTACH;FMTTYPE=image/png:https://www.grand-champ.ch/wp-content/uploads/2025/08/58.-the-clive-scaled.png
END:VEVENT
END:VCALENDAR