BEGIN:VCALENDAR
VERSION:2.0
PRODID:-//Théâtre de Grand-Champ à Gland - ECPv6.15.20//NONSGML v1.0//EN
CALSCALE:GREGORIAN
METHOD:PUBLISH
X-WR-CALNAME:Théâtre de Grand-Champ à Gland
X-ORIGINAL-URL:https://www.grand-champ.ch
X-WR-CALDESC:Évènements pour Théâtre de Grand-Champ à Gland
REFRESH-INTERVAL;VALUE=DURATION:PT1H
X-Robots-Tag:noindex
X-PUBLISHED-TTL:PT1H
BEGIN:VTIMEZONE
TZID:Europe/Paris
BEGIN:DAYLIGHT
TZOFFSETFROM:+0100
TZOFFSETTO:+0200
TZNAME:CEST
DTSTART:20240331T010000
END:DAYLIGHT
BEGIN:STANDARD
TZOFFSETFROM:+0200
TZOFFSETTO:+0100
TZNAME:CET
DTSTART:20241027T010000
END:STANDARD
BEGIN:DAYLIGHT
TZOFFSETFROM:+0100
TZOFFSETTO:+0200
TZNAME:CEST
DTSTART:20250330T010000
END:DAYLIGHT
BEGIN:STANDARD
TZOFFSETFROM:+0200
TZOFFSETTO:+0100
TZNAME:CET
DTSTART:20251026T010000
END:STANDARD
BEGIN:DAYLIGHT
TZOFFSETFROM:+0100
TZOFFSETTO:+0200
TZNAME:CEST
DTSTART:20260329T010000
END:DAYLIGHT
BEGIN:STANDARD
TZOFFSETFROM:+0200
TZOFFSETTO:+0100
TZNAME:CET
DTSTART:20261025T010000
END:STANDARD
END:VTIMEZONE
BEGIN:VEVENT
DTSTART;VALUE=DATE:20251101
DTEND;VALUE=DATE:20251102
DTSTAMP:20260421T222739
CREATED:20250730T135923Z
LAST-MODIFIED:20250916T084505Z
UID:10000011-1761955200-1762041599@www.grand-champ.ch
SUMMARY:Il était une fois le violon - Le Petit Empereur de Chine
DESCRIPTION:Samedi à 10h30 & 16h \nCie Jolla \nConte musical\nA découvrir dès 3 ans\nDurée 30 min \nÉveiller les tout-petits à la magie de la musique et du spectacle : telle est l’ambition de cette belle aventure artistique.\nChaque mois\, des histoires et des créations musicales viennent nourrir l’imaginaire des plus jeunes\, avant de les inviter à vivre l’expérience du spectacle en salle.\nPortés par la voix d’une comédienne et les notes d’une violoniste\, les personnages des contes s’animent\, vibrent\, prennent vie… et font résonner la musique dans les cœurs et les petites oreilles.  \nLe Petit Empereur de Chine  \nDans la cité interdite\, le petit empereur de Chine s’ennuie. Un jour\, il apprend qu’il est le seul à pouvoir vaincre le terrible Dragon aux Yeux Verts. Alors\, quand une petite fille lui demande de l’aide\, le petit empereur n’hésite pas une seconde : il part pourchasser le dragon ! \nD’après le livre de Michel Amelin et Ulises Wensell\nJeu et adaptation: Laurence Morisot\nViolon et Composition : Clémentine Leblanc\nMise en scène : Antony Mettler\nScénographie\, régie : Dorian Nahoun et Thomas Leblanc \nBilletterie \nGratuit\, sur réservation
URL:https://www.grand-champ.ch/evenement/il-etait-une-fois-le-violon/
LOCATION:Théâtre de Grand-Champ\, Chemin de la Serine 2\, Gland\, 1196
CATEGORIES:1P-2P,crèches,Petite saison,Spectacle musical
ATTACH;FMTTYPE=image/png:https://www.grand-champ.ch/wp-content/uploads/2025/07/6.-il-etait-une-fois-le-violon-scaled.png
END:VEVENT
BEGIN:VEVENT
DTSTART;VALUE=DATE:20251101
DTEND;VALUE=DATE:20251103
DTSTAMP:20260421T222739
CREATED:20250730T141228Z
LAST-MODIFIED:20251028T125947Z
UID:10000012-1761955200-1762127999@www.grand-champ.ch
SUMMARY:Rouille & Paillettes
DESCRIPTION:Samedi à 19h\nDimanche à 17h \nTeatro la Fuffa  \nDrame comique forain   \nSpectacle tout public à partir de 12 ans \nDurée : 80 min  \nLa famille Clapier est contrainte de vivre au cœur d’une fête foraine\, héritée d’un lointain parent du père\, entassée dans une roulotte… Peu à peu elle s’enfoncera dans un trou noir où le temps semble s’être arrêté à jamais\, comme dans une vitrine poussiéreuse.   \nLa “prison scintillante” dans laquelle ils sont enfermés exaltera à l’extrême la dynamique hilarante et grotesque de cette famille :  \nLa jeune Mathilde\, rêve de devenir une tueuse en série punk et tente de se trouver elle-même dans un monde qui semble ne pas lui convenir. Son père\, Bernard\, comptable du parc d’attractions\, s’entraîne secrètement à devenir danseur de tango avec une peluche flamant rose qu’il appelle Rosalia\, derrière le stand de barbe à papa.   \nLa mère\, Alice\, essaie d’échapper à mille regrets par des sarcasmes constants qui\, cependant\, la feront sombrer de plus en plus profondément dans la partie la plus obscure d’elle-même.  \nCette comédie hors normes vous lancera à toute allure sur un grand huit existentiel et ne serez pas déçus du voyage !  \n  \n« C’est un drame\, mais très drôle\, comme la vie. » La Liberté – Elisabeth Haas  \n  \nCo-direction artistique et mise en scène : Saskia Simonet et Filippo Capparella / Avec: Martin Durrmann\, Audrey Launaz\, Saskia Simonet / Œil extérieur : Céline Rey / D’après une idée originale de : Filippo Capparella et Saskia Simonet / Texte : Filippo Capparella / Traduction : Patrice Bussy\, Saskia Simonet / Création lumière : Emile Schaer / Régie lumière et son : Emile Schaer ou Lauriane Tissot / Scénographie : Sylvia Faleni\, Alexis Thiémard / Création musicale : Davide Rossi / Administration : Laetitia Albinati / Production : Teatro la Fuffa / Coproduction : Equilibre-Nuithonie-Fribourg / Avec le soutien de : Etat de Fribourg\, Loterie Romande\, Société Suisse des Auteurs (SSA)\, Ernst Göhner Stiftung\, Agglomération Fribourg\, Fondation Edith Maryon\, Corodis  \nhttps://www.grand-champ.ch/wp-content/uploads/2025/07/ROUILLE-ET-PAILLETTE-Trailer-officiel.mp4\nBilletterie\n CHF 35.- Tarif réduit / CHF 45.- Plein tarif 
URL:https://www.grand-champ.ch/evenement/rouille-paillettes/
CATEGORIES:Théâtre
ATTACH;FMTTYPE=image/png:https://www.grand-champ.ch/wp-content/uploads/2025/07/7.-Rouille-et-paillettes-1-scaled.png
END:VEVENT
BEGIN:VEVENT
DTSTART;TZID=Europe/Paris:20251112T103000
DTEND;TZID=Europe/Paris:20251112T113000
DTSTAMP:20260421T222739
CREATED:20250730T141628Z
LAST-MODIFIED:20251021T122002Z
UID:10000013-1762943400-1762947000@www.grand-champ.ch
SUMMARY:Bonjour le monde / Ciné-mini
DESCRIPTION:Réalisé par Anne-Lise Koehler et Eric Serre\n2019\nFrance\nDurée : 61 minutes\nAge légal : 0 ans\nAge suggéré : 6 ans \nComment naît-on oiseau\, pourquoi naît-on insecte\, mammifère ou poisson ? Conçu avec des naturalistes et des experts\, ce film retrace les étapes de la vie de dix espèces du règne animal de leur naissance à l’âge adulte. Réalisées en papier mâché\, les délicates marionnettes prennent vie dans de superbes décors colorés\, pour raconter aux petits et aux grands la vie de la faune et de la flore de nos campagnes et les sensibiliser à la préservation de la nature et à l’équilibre des écosystèmes. Un film original\, drôle et poétique. \n\nBilletterie
URL:https://www.grand-champ.ch/evenement/cine-mini/
LOCATION:Théâtre de Grand-Champ\, Chemin de la Serine 2\, Gland\, 1196
CATEGORIES:1P-2P,Cinéma,crèches,Petite saison
ATTACH;FMTTYPE=image/png:https://www.grand-champ.ch/wp-content/uploads/2025/07/cine-mini-novembre-scaled.png
END:VEVENT
BEGIN:VEVENT
DTSTART;TZID=Europe/Paris:20251112T190000
DTEND;TZID=Europe/Paris:20251112T220000
DTSTAMP:20260421T222739
CREATED:20250730T141822Z
LAST-MODIFIED:20251021T121458Z
UID:10000014-1762974000-1762984800@www.grand-champ.ch
SUMMARY:Une bataille après l'autre / Ciné-actuel
DESCRIPTION:Réalisé par Paul Thomas Anderson\nAvec Leonardo DiCaprio\, Benicio Del Toro et Teyana Taylor\n2025\nAction – Comédie\nVo – Anglais\nDurée : 2h42\nAge légal : 14\nAge suggéré : 14 \nAncien révolutionnaire désabusé et paranoïaque\, Bob vit en marge de la société\, avec sa fille Willa\, indépendante et pleine de ressources. Quand son ennemi juré refait surface après 16 ans et que Willa disparaît\, Bob remue ciel et terre pour la retrouver\, affrontant pour la première fois les conséquences de son passé… \n\nBilletterie
URL:https://www.grand-champ.ch/evenement/cine-actuel/
LOCATION:Théâtre de Grand-Champ\, Chemin de la Serine 2\, Gland\, 1196
CATEGORIES:Cinéma
ATTACH;FMTTYPE=image/png:https://www.grand-champ.ch/wp-content/uploads/2025/07/cine-novembre-scaled.png
END:VEVENT
BEGIN:VEVENT
DTSTART;TZID=Europe/Paris:20251113T140000
DTEND;TZID=Europe/Paris:20251113T153000
DTSTAMP:20260421T222739
CREATED:20250730T142010Z
LAST-MODIFIED:20251003T081459Z
UID:10000015-1763042400-1763047800@www.grand-champ.ch
SUMMARY:Sur le fil / Ciné-seniors
DESCRIPTION:Réalisé par Patrick Sumi\nDocumentaire\nDurée : 1h30\nAge légal et suggéré : 16 ans \nVIVAG\, l’association Vivre ensemble à Gland \, Pro Senectute et la Ville de Gland vous proposent dans le cadre des films « Ciné – Seniors »\, le film SUR le FIL de Patrick SUMI.  Un périple de 5200 km à vélo de Lutry au Cap Nord avec de belles prise de vues et un récit de vie\, dont l’auteur fixe le contexte : \n« Cadre dans une multinationale\, j’ai atteint\, à force de travail acharné\, le poste que je souhaitais. Mais me voilà bientôt contraint de licencier la moitié de mon équipe. Je mets beaucoup d’énergie à tenter de sauver chaque emploi\, jusqu’à l’épuisement. Les prémices du burn-out me donnent la force de quitter mon emploi avant de sombrer. C’est sans hésiter aussi l’occasion de réaliser mon rêve : un périple à vélo de 5200 km entre Lutry et le Cap Nord. Sur le Fil revient sur ce moment de fragilité et de vagabondage cycliste de la Suisse à la Norvège\, en passant par la Slovaquie\, la Pologne les pays baltes ainsi que les trois pays scandinaves. Entre paysages spectaculaires\, bivouacs sauvages et rencontres humaines\, ce périple apparait bientôt comme une thérapie\, une ode à la réflexion et un voyage intérieur. »    \nÀ l’issue de chaque projection\, un goûter convivial est offert en collaboration avec Pro Senectute.  \nBilletterie
URL:https://www.grand-champ.ch/evenement/cine-seniors/
LOCATION:Théâtre de Grand-Champ\, Chemin de la Serine 2\, Gland\, 1196
CATEGORIES:Cinéma
ATTACH;FMTTYPE=image/png:https://www.grand-champ.ch/wp-content/uploads/2025/07/sur-le-fil-cine-novembre-scaled.png
END:VEVENT
BEGIN:VEVENT
DTSTART;TZID=Europe/Paris:20251113T183000
DTEND;TZID=Europe/Paris:20251113T203000
DTSTAMP:20260421T222739
CREATED:20250818T064015Z
LAST-MODIFIED:20250818T064015Z
UID:10000058-1763058600-1763065800@www.grand-champ.ch
SUMMARY:Siselabonga
DESCRIPTION:Afterwork Afro Soul Tronic \nSiselabonga est un mélange sonore de soul afro-diasporique\, de percussions brutes et de mysticisme électronique. Le duo\, composé de la chanteuse Nongoma Ndlovu (CH/SA/ZIM) et du percussionniste suisse Fabio Meier\, fusionne des influences de tous les continents pour façonner leur son Afro Soul Tronic signature : rythmé\, riche en émotions et résolument unique.   \nPour leur nouvel EP In Stone\, Nongoma a pris les commandes du micro et le groupe s’est lancé dans un mélange kaléidoscopique d’instrumentations acoustiques et électroniques. La base rythmique est entièrement ouest-africaine\, mais des éléments de hip-hop\, de soul\, d’afrobeats et d’électro-pop s’entremêlent. Vibrant\, sensuel et transcendant\, par analogie\, le résultat final a l’assurance éclatante des toiles grand format du peintre Kudzanai-Violet Hwami.  \nClaviers\, chant : Nongoma Ndlovu / Batterie\, percussions : Fabio Meier  \n  \n\nLes afterworks\, entièrement gratuits\, se tiennent au Foyer du Théâtre à 18h30. Ouverts à tous\, ils offrent un moment convivial pour partager musique et découvertes\, que ce soit entre amis\, en famille ou après une journée de travail.\nC’est aussi l’occasion de découvrir des artistes prometteurs qui ne manqueront pas de faire parler d’eux ! \nAucune réservation n’est requise : les portes ouvrent dès 18h\, et les premiers arrivés sont les premiers assis.
URL:https://www.grand-champ.ch/evenement/siselabonga/
LOCATION:Théâtre de Grand-Champ\, Chemin de la Serine 2\, Gland\, 1196
CATEGORIES:Afterwork
ATTACH;FMTTYPE=image/png:https://www.grand-champ.ch/wp-content/uploads/2025/08/11.-Siselabonga-scaled.png
END:VEVENT
BEGIN:VEVENT
DTSTART;TZID=Europe/Paris:20251116T110000
DTEND;TZID=Europe/Paris:20251116T115500
DTSTAMP:20260421T222739
CREATED:20250818T074054Z
LAST-MODIFIED:20250819T064314Z
UID:10000065-1763290800-1763294100@www.grand-champ.ch
SUMMARY:La familiomédie
DESCRIPTION:La Comédie musicale improvisée   \nLa petite saison   \n  \nDès 7 ans\nDurée : 55 min \nUne journée placée sous le thème de la comédie musicale\, parce qu’on adore ça ! Celle-ci sera doublement particulière en commençant le matin par la version spécialement destinée au jeune public. Et rendez-vous à 17h avec la version « pour les grands »! \nÀ partir de quelques suggestions glanées parmi le public\, ces virtuoses du verbe et de la rime sculptent des mélodies “en live” et nous font vivre une comédie musicale totalement improvisée. \nQuelques touches de Walt Disney\, deux ou trois bidules échappés d’un Pixar\, un peu de Tim Burton et de la folie pianistique : découvrez un conte musical improvisé où les enfants ont leur mot à dire et leur refrain à chanter ! Quatre artistes de la CMI vont bricoler\, bruiter\, bredouiller et butiner une histoire exclusive à quatre voix pour ravir les mômes et réjouir les gnomes. \n  \nConception : Odile Cantero\, Judith Goudal\, Grégoire Leresche\, Lionel Perrinjaquet\, Yvan RichardetMusique improvisée (en alternance) : Jérôme Delaloye\, Renaud Delay\, Lucas Buclin / Interprétation : Les membres de La Comédie Musicale Improvisée / Photos : Bastien Monachon \n  \nBilletterie\nTarif unique CHF 18.-
URL:https://www.grand-champ.ch/evenement/la-familiomedie/
CATEGORIES:4P,5P,6P,7P,8P,Petite saison
ATTACH;FMTTYPE=image/png:https://www.grand-champ.ch/wp-content/uploads/2025/08/12.-la-familiomedie-1.png
END:VEVENT
BEGIN:VEVENT
DTSTART;TZID=Europe/Paris:20251116T170000
DTEND;TZID=Europe/Paris:20251116T183000
DTSTAMP:20260421T222739
CREATED:20250818T075147Z
LAST-MODIFIED:20250819T064458Z
UID:10000066-1763312400-1763317800@www.grand-champ.ch
SUMMARY:La comédie musicale improvisée
DESCRIPTION:La comédie musicale improvisée \nComédie musicale \nDurée : 1h30\nConseillé dès 12 ans \nLa comédie musicale improvisée propose son spectacle « pour les grand » : trois suggestions et place au spectacle\, chanté\, joué et dansé par la crème de l’improvisation romande ! À chaque spectacle\, une nouvelle performance époustouflante à découvrir : à partir d’une suggestion du public\, six virtuoses du verbe sculptent rimes et mélodies pour se sublimer dans une comédie musicale éphémère et exclusive. Une célébration jubilatoire qui voltige entre répliques et claquettes\, qui balance entre batterie et trompette\, qui navigue entre poésie et pâquerettes.  \n  \nDirection artistique : Yvan Richardet / Musique improvisée Lucas Buclin\, Jérôme Delaloye\, Renaud Delay\,Manon Mullener\, Natan Niddam / Interprétation (en alternance) : Florence Annoni\, Blaise Bersinger Alain Borek\, Odile Cantero Renaud Delay\, Mélanie Foulon Aude Gilliéron\, Baptiste Gilliéron Judith Goudal\, Laura Guerrero\, Caroline Imhof\, Grégoire Leresche Quentin Lo Russo\, Lionel Perrinjaquet Yvan Richardet / Photos : Bastien Monachon  \n  \nBilletterie\nCHF 30.- Tarif réduit / CHF 38.- Plein tarif 
URL:https://www.grand-champ.ch/evenement/la-comedie-musicale-improvisee/
CATEGORIES:Spectacle musical
ATTACH;FMTTYPE=image/png:https://www.grand-champ.ch/wp-content/uploads/2025/08/13.-la-comedie-musicale-improvisee-scaled.png
END:VEVENT
BEGIN:VEVENT
DTSTART;VALUE=DATE:20251120
DTEND;VALUE=DATE:20251124
DTSTAMP:20260421T222739
CREATED:20250806T090839Z
LAST-MODIFIED:20250819T065146Z
UID:10000016-1763596800-1763942399@www.grand-champ.ch
SUMMARY:L'effet miroir
DESCRIPTION:Jeudi et vendredi à 20h\nSamedi à 19h\nDimanche à 17h \nDe Léonore Confino \nCie Interlope   \nComédie \nDurée 1h20\nConseillé à partir de 15 ans \nCette comédie singulière à la fois fine\, drôle\, touchante et un brin cynique\, raconte l’histoire de Théophile\, écrivain en perte de vitesse\, qui retrouve enfin son inspiration avec l’écriture d’un conte poétique et aquatique. Mais la situation prend une nouvelle tournure lorsque ses proches découvrent les métaphores de son texte : ils y voient des messages cachés\, se reconnaissent dans les personnages d’oursins\, de poulpes et autres créatures marines\, déclenchant un cataclysme familial. \nQu’est-ce que l’autre voit de moi ? Qu’est-ce qu’il ou elle me renvoie ? Qui suis-je vraiment ? Et si les regards extérieurs étaient indifférents\, pire\, déformants ? Toutes ces questions\, la dramaturge franco-suisse Léonore Confino nous les pose avec malice dans cette comédie grinçante.  \nMise en scène : Olivier Périat / Jeu : Carine Barbey\, Frédérique Landenberg\, Anne-Sophie Rohr et Djamel Ben Gahzi / Lumière : Jérôme Bueche / Costumes : Tania D’Ambrogio / Maquillage : Sonia Geneux / Scénographie : Olivier Périat / Production : Cie Interlope / Coproduction : Pulloff Théâtres – Lausanne\, Les Amis musiquethéâtre – Carouge\, Théâtre de Grand-Champ / Soutiens : Etat de Vaud\, Loterie Romande\, Pour-cent culturel Migros\, Fondation Equiléo \nL’Effet Miroir de Léonore Confino est représentée par l’agence Drama – Suzanne Sarquier\, 24 rue Feydeau 75002\, Paris\, www.dramaparis.com  \n  \nBilletterie\n Tarif unique CHF 30.-
URL:https://www.grand-champ.ch/evenement/leffet-miroir/
LOCATION:Salle des Colonnes\, Chem. de la Serine 2\, Gland\, 1196
CATEGORIES:Humour et comédie,secondaire II
ATTACH;FMTTYPE=image/png:https://www.grand-champ.ch/wp-content/uploads/2025/08/14.-leffet-miroir-1-scaled.png
END:VEVENT
END:VCALENDAR