BEGIN:VCALENDAR
VERSION:2.0
PRODID:-//Théâtre de Grand-Champ à Gland - ECPv6.15.20//NONSGML v1.0//EN
CALSCALE:GREGORIAN
METHOD:PUBLISH
X-ORIGINAL-URL:https://www.grand-champ.ch
X-WR-CALDESC:Évènements pour Théâtre de Grand-Champ à Gland
REFRESH-INTERVAL;VALUE=DURATION:PT1H
X-Robots-Tag:noindex
X-PUBLISHED-TTL:PT1H
BEGIN:VTIMEZONE
TZID:Europe/Paris
BEGIN:DAYLIGHT
TZOFFSETFROM:+0100
TZOFFSETTO:+0200
TZNAME:CEST
DTSTART:20250330T010000
END:DAYLIGHT
BEGIN:STANDARD
TZOFFSETFROM:+0200
TZOFFSETTO:+0100
TZNAME:CET
DTSTART:20251026T010000
END:STANDARD
BEGIN:DAYLIGHT
TZOFFSETFROM:+0100
TZOFFSETTO:+0200
TZNAME:CEST
DTSTART:20260329T010000
END:DAYLIGHT
BEGIN:STANDARD
TZOFFSETFROM:+0200
TZOFFSETTO:+0100
TZNAME:CET
DTSTART:20261025T010000
END:STANDARD
BEGIN:DAYLIGHT
TZOFFSETFROM:+0100
TZOFFSETTO:+0200
TZNAME:CEST
DTSTART:20270328T010000
END:DAYLIGHT
BEGIN:STANDARD
TZOFFSETFROM:+0200
TZOFFSETTO:+0100
TZNAME:CET
DTSTART:20271031T010000
END:STANDARD
END:VTIMEZONE
BEGIN:VEVENT
DTSTART;TZID=Europe/Paris:20260218T103000
DTEND;TZID=Europe/Paris:20260218T113000
DTSTAMP:20260423T031250
CREATED:20251106T081231Z
LAST-MODIFIED:20251106T081231Z
UID:10000082-1771410600-1771414200@www.grand-champ.ch
SUMMARY:Ciné-mini / Les Tourouges et les Toubleus
DESCRIPTION:Un film d’animation de Samantha Cutler et Daniel Snaddon \n2022\nGrande-Bretagne\nDurée :  41 minutes\nDès 3 ans \nSur une lointaine planète vivaient Édouard et Jeannette\, un Toubleu et une Tourouge. Par un beau matin\, ces deux-là tombèrent amoureux. Malheureusement pour eux\, les Tourouges et les Toubleus ne se mélangent pas\, et bien plus encore : ils se détestent ! \nPar les créateurs du Gruffalo et de Superasticot\, d’après le livre illustré de Julia Donaldson et Axel Scheffler.  \nEn avant programme\nSous les nuages\, 4’\nSomni\, 3’\nLa Fiesta\, 3’\nLe Gnome et le nuage\, 5’ \nRetrouvez ici le cahier d’activités en lien avec le film.  \nBilletterie
URL:https://www.grand-champ.ch/evenement/cine-mini-les-tourouges-et-les-toubleus/
LOCATION:Théâtre de Grand-Champ\, Chemin de la Serine 2\, Gland\, 1196
CATEGORIES:1P-2P,Cinéma,crèches,Petite saison
ATTACH;FMTTYPE=image/png:https://www.grand-champ.ch/wp-content/uploads/2025/11/cine-mini3-scaled.png
END:VEVENT
END:VCALENDAR