BEGIN:VCALENDAR
VERSION:2.0
PRODID:-//Théâtre de Grand-Champ à Gland - ECPv6.15.20//NONSGML v1.0//EN
CALSCALE:GREGORIAN
METHOD:PUBLISH
X-ORIGINAL-URL:https://www.grand-champ.ch
X-WR-CALDESC:Évènements pour Théâtre de Grand-Champ à Gland
REFRESH-INTERVAL;VALUE=DURATION:PT1H
X-Robots-Tag:noindex
X-PUBLISHED-TTL:PT1H
BEGIN:VTIMEZONE
TZID:Europe/Paris
BEGIN:DAYLIGHT
TZOFFSETFROM:+0100
TZOFFSETTO:+0200
TZNAME:CEST
DTSTART:20240331T010000
END:DAYLIGHT
BEGIN:STANDARD
TZOFFSETFROM:+0200
TZOFFSETTO:+0100
TZNAME:CET
DTSTART:20241027T010000
END:STANDARD
BEGIN:DAYLIGHT
TZOFFSETFROM:+0100
TZOFFSETTO:+0200
TZNAME:CEST
DTSTART:20250330T010000
END:DAYLIGHT
BEGIN:STANDARD
TZOFFSETFROM:+0200
TZOFFSETTO:+0100
TZNAME:CET
DTSTART:20251026T010000
END:STANDARD
BEGIN:DAYLIGHT
TZOFFSETFROM:+0100
TZOFFSETTO:+0200
TZNAME:CEST
DTSTART:20260329T010000
END:DAYLIGHT
BEGIN:STANDARD
TZOFFSETFROM:+0200
TZOFFSETTO:+0100
TZNAME:CET
DTSTART:20261025T010000
END:STANDARD
END:VTIMEZONE
BEGIN:VEVENT
DTSTART;TZID=Europe/Paris:20251113T183000
DTEND;TZID=Europe/Paris:20251113T203000
DTSTAMP:20260426T004530
CREATED:20250818T064015Z
LAST-MODIFIED:20250818T064015Z
UID:10000058-1763058600-1763065800@www.grand-champ.ch
SUMMARY:Siselabonga
DESCRIPTION:Afterwork Afro Soul Tronic \nSiselabonga est un mélange sonore de soul afro-diasporique\, de percussions brutes et de mysticisme électronique. Le duo\, composé de la chanteuse Nongoma Ndlovu (CH/SA/ZIM) et du percussionniste suisse Fabio Meier\, fusionne des influences de tous les continents pour façonner leur son Afro Soul Tronic signature : rythmé\, riche en émotions et résolument unique.   \nPour leur nouvel EP In Stone\, Nongoma a pris les commandes du micro et le groupe s’est lancé dans un mélange kaléidoscopique d’instrumentations acoustiques et électroniques. La base rythmique est entièrement ouest-africaine\, mais des éléments de hip-hop\, de soul\, d’afrobeats et d’électro-pop s’entremêlent. Vibrant\, sensuel et transcendant\, par analogie\, le résultat final a l’assurance éclatante des toiles grand format du peintre Kudzanai-Violet Hwami.  \nClaviers\, chant : Nongoma Ndlovu / Batterie\, percussions : Fabio Meier  \n  \n\nLes afterworks\, entièrement gratuits\, se tiennent au Foyer du Théâtre à 18h30. Ouverts à tous\, ils offrent un moment convivial pour partager musique et découvertes\, que ce soit entre amis\, en famille ou après une journée de travail.\nC’est aussi l’occasion de découvrir des artistes prometteurs qui ne manqueront pas de faire parler d’eux ! \nAucune réservation n’est requise : les portes ouvrent dès 18h\, et les premiers arrivés sont les premiers assis.
URL:https://www.grand-champ.ch/evenement/siselabonga/
LOCATION:Théâtre de Grand-Champ\, Chemin de la Serine 2\, Gland\, 1196
CATEGORIES:Afterwork
ATTACH;FMTTYPE=image/png:https://www.grand-champ.ch/wp-content/uploads/2025/08/11.-Siselabonga-scaled.png
END:VEVENT
END:VCALENDAR