BEGIN:VCALENDAR
VERSION:2.0
PRODID:-//Théâtre de Grand-Champ à Gland - ECPv6.15.20//NONSGML v1.0//EN
CALSCALE:GREGORIAN
METHOD:PUBLISH
X-WR-CALNAME:Théâtre de Grand-Champ à Gland
X-ORIGINAL-URL:https://www.grand-champ.ch
X-WR-CALDESC:Évènements pour Théâtre de Grand-Champ à Gland
REFRESH-INTERVAL;VALUE=DURATION:PT1H
X-Robots-Tag:noindex
X-PUBLISHED-TTL:PT1H
BEGIN:VTIMEZONE
TZID:Europe/Paris
BEGIN:DAYLIGHT
TZOFFSETFROM:+0100
TZOFFSETTO:+0200
TZNAME:CEST
DTSTART:20250330T010000
END:DAYLIGHT
BEGIN:STANDARD
TZOFFSETFROM:+0200
TZOFFSETTO:+0100
TZNAME:CET
DTSTART:20251026T010000
END:STANDARD
BEGIN:DAYLIGHT
TZOFFSETFROM:+0100
TZOFFSETTO:+0200
TZNAME:CEST
DTSTART:20260329T010000
END:DAYLIGHT
BEGIN:STANDARD
TZOFFSETFROM:+0200
TZOFFSETTO:+0100
TZNAME:CET
DTSTART:20261025T010000
END:STANDARD
BEGIN:DAYLIGHT
TZOFFSETFROM:+0100
TZOFFSETTO:+0200
TZNAME:CEST
DTSTART:20270328T010000
END:DAYLIGHT
BEGIN:STANDARD
TZOFFSETFROM:+0200
TZOFFSETTO:+0100
TZNAME:CET
DTSTART:20271031T010000
END:STANDARD
END:VTIMEZONE
BEGIN:VEVENT
DTSTART;VALUE=DATE:20260312
DTEND;VALUE=DATE:20260314
DTSTAMP:20260422T021050
CREATED:20250807T071527Z
LAST-MODIFIED:20260309T074001Z
UID:10000035-1773273600-1773446399@www.grand-champ.ch
SUMMARY:Fertik
DESCRIPTION:Jeudi 12 & vendredi 13 à 20h \nLes Diptik \nSpectacle pour deux clown.es et un musicien \nA découvrir dès 8 ans\nDurée : 75min \n!! Des effets stroboscopiques sont utilisés dans le spectacle !! \nLes Diptik nous plongent dans le chaos joyeux de la collaboration ratée : une ode absurde et poétique à la persévérance.  \nÀ la frontière entre concert qui dérape\, conférence engagée et préparation foireuse d’un monde nouveau\, Fertik nous emmène dans une aventure théâtrale effervescente qui part dans tous les sens pour\, justement\, tenter de le retrouver\, ce sens. \nAussi touchants qu’à côté de la plaque\, les trois protagonistes tentent de créer et penser ensemble\, malgré le chaos qui règne. Cette tentative désespérée de sauver ce qu’il y a de bon transpire l’échec et la défaite de toutes parts\, et pourtant\, on ressort de là avec une sensation positive et un peu plus d’amour. Une ode à la tentative et à l’envie\, quoi qu’il arrive. \nLa compagnie a reçu le Prix suisse de la scène en 2020.  \n  \nUne création de la Compagnie Les Diptik / Écriture et mise en scène : Céline Rey\, David Melendy\, Fanny Krähenbühl / Interprétation : Céline Rey\, David Melendy & Cédric Blaser / Musique : Cédric Blaser / Scénographie : Alexis Thiémard / Création lumière : Robin Dupuis / Costumes : Fanny Buchs / Coproductions : Équilibre-Nuithonie – Fribourg et Théâtre de Grand-Champ-Gland / Photos : Julien James Auzan   \nBilletterie\nCHF 35.- tarif réduit / CHF 45.-Plein tarif
URL:https://www.grand-champ.ch/evenement/fertik/
LOCATION:Théâtre de Grand-Champ\, Chemin de la Serine 2\, Gland\, 1196
CATEGORIES:9S et plus,Théâtre
ATTACH;FMTTYPE=image/png:https://www.grand-champ.ch/wp-content/uploads/2025/08/38.-Fertik-scaled.png
END:VEVENT
BEGIN:VEVENT
DTSTART;TZID=Europe/Paris:20260324T190000
DTEND;TZID=Europe/Paris:20260324T201500
DTSTAMP:20260422T021050
CREATED:20250807T084740Z
LAST-MODIFIED:20250819T074512Z
UID:10000040-1774378800-1774383300@www.grand-champ.ch
SUMMARY:Une cellule grise pour 2
DESCRIPTION:Les mardis 24 & 31 mars & 7 avril à 19h  \nChristian Savary & Jessie Kobel  \nComédie  \nDurée : 1h10\nConseillé dès 12 ans \n  \nUn irrésistible huis clos pour deux personnages.  \nMichel est un cambrioleur chevronné qui a l’habitude de travailler seul.  \nLe temps d’un casse\, il s’associe à Serge\, un véritable looser. Après un cambriolage manqué\, un interrogatoire musclé et un procès raté\, nos deux gangsters vont se retrouvés enfermés dans la même cellule. Mais quand l’un d’entre eux n’en possède pas\, de cellule grise\, l’autre va devoir contrôler ses nerfs…  \n« Magnifiquement huilée\, la mécanique de cette pièce fonctionne comme une horloge. Une manière de s’évader par le rire. » Philippe Muri\, Tribune de Genève  \n  \nTexte : Christian Savary & Jessie Kobel / Mise en scène : Christian Savary / Collaboration artistique : Pierre Aucaigne / Photos : Pierre Vogel \nBilletterie  \nTarif unique 30.-  \n 
URL:https://www.grand-champ.ch/evenement/une-cellule-grise-pour-2/
LOCATION:Salle des Colonnes\, Chem. de la Serine 2\, Gland\, 1196
CATEGORIES:9S et plus,Humour et comédie
ATTACH;FMTTYPE=image/png:https://www.grand-champ.ch/wp-content/uploads/2025/08/44.-une-cellule-grise-pour-2-scaled.png
END:VEVENT
BEGIN:VEVENT
DTSTART;TZID=Europe/Paris:20260329T173000
DTEND;TZID=Europe/Paris:20260329T184500
DTSTAMP:20260422T021050
CREATED:20250818T081545Z
LAST-MODIFIED:20250819T075822Z
UID:10000067-1774805400-1774809900@www.grand-champ.ch
SUMMARY:Quand j’étais blanche
DESCRIPTION:Fatima Ndoye / Cie le Temps des Choses \nThéâtre- danse \nA découvrir dès 10 ans   \nDurée : 1h10  \n\nDans ce spectacle\, Fatima questionne le métissage\, la double nationalité avec intelligence\, humour et émotion. \nUne narration théâtrale ponctuée de danse dans une scénographie épurée et efficace. \nJe suis « métisse »\, comme on dit. \nNée en Suisse à la fin des années 70\, j’ai grandi dans un environnement exclusivement blanc\, avec l’ombre d’un père noir vivant « là-bas » … Dans ce lieu et cette époque où j’ai grandi\, il était permis de rêver de l’ailleurs\, à condition qu’il reste ailleurs\, alors\, j’ai choisi de danser. Comme Leroy dans « Fame » car il était peu probable que je devienne un cygne. Plus tard\, j’ai découvert Paris et le théâtre\, la possibilité de s’inventer autre. J’ai alors rêvé d’être un jour Phèdre ou Célimène. Longtemps\, longtemps j’ai essayé\, avec force\, avec foi\, de me fondre. \nEt puis un jour\, ce père noir absent a refait surface. \nIncarnant son rôle avec conviction\, humour et sensibilité\, elle livre un récit intime non seulement sur le tiraillement entre deux mondes\, sur ce qui les sépare et les unit\, mais aussi sur comment la couleur de peau peut façonner une identité.  \nUn spectacle tout en retenue mais d’une grande force\, à la fois bouleversant et drôle.  \nTexte et interprétation : Fatima Ndoye / Mise en scène : Nathalie Dorion / Photos : Marie Charbonnier \nBilletterie \nCHF 35.- tarif réduit / CHF 45.- plein tarif
URL:https://www.grand-champ.ch/evenement/quand-jetais-blanche/
LOCATION:Théâtre de Grand-Champ\, Chemin de la Serine 2\, Gland\, 1196
CATEGORIES:9S et plus,Danse,Théâtre
ATTACH;FMTTYPE=image/png:https://www.grand-champ.ch/wp-content/uploads/2025/08/45.-quand-jetais-blanche-scaled.png
END:VEVENT
BEGIN:VEVENT
DTSTART;TZID=Europe/Paris:20260331T190000
DTEND;TZID=Europe/Paris:20260331T201500
DTSTAMP:20260422T021050
CREATED:20250819T074547Z
LAST-MODIFIED:20250819T074547Z
UID:10000070-1774983600-1774988100@www.grand-champ.ch
SUMMARY:Une cellule grise pour 2
DESCRIPTION:Les mardis 24 & 31 mars & 7 avril à 19h  \nChristian Savary & Jessie Kobel  \nComédie  \nDurée : 1h10\nConseillé dès 12 ans \n  \nUn irrésistible huis clos pour deux personnages.  \nMichel est un cambrioleur chevronné qui a l’habitude de travailler seul.  \nLe temps d’un casse\, il s’associe à Serge\, un véritable looser. Après un cambriolage manqué\, un interrogatoire musclé et un procès raté\, nos deux gangsters vont se retrouvés enfermés dans la même cellule. Mais quand l’un d’entre eux n’en possède pas\, de cellule grise\, l’autre va devoir contrôler ses nerfs…  \n« Magnifiquement huilée\, la mécanique de cette pièce fonctionne comme une horloge. Une manière de s’évader par le rire. » Philippe Muri\, Tribune de Genève  \n  \nTexte : Christian Savary & Jessie Kobel / Mise en scène : Christian Savary / Collaboration artistique : Pierre Aucaigne / Photos : Pierre Vogel \nBilletterie  \nTarif unique 30.-  \n 
URL:https://www.grand-champ.ch/evenement/une-cellule-grise-pour-2-2/
LOCATION:Salle des Colonnes\, Chem. de la Serine 2\, Gland\, 1196
CATEGORIES:9S et plus,Humour et comédie
ATTACH;FMTTYPE=image/png:https://www.grand-champ.ch/wp-content/uploads/2025/08/44.-une-cellule-grise-pour-2-scaled.png
END:VEVENT
BEGIN:VEVENT
DTSTART;TZID=Europe/Paris:20260407T190000
DTEND;TZID=Europe/Paris:20260407T201500
DTSTAMP:20260422T021050
CREATED:20250819T074622Z
LAST-MODIFIED:20250819T074622Z
UID:10000071-1775588400-1775592900@www.grand-champ.ch
SUMMARY:Une cellule grise pour 2
DESCRIPTION:Les mardis 24 & 31 mars & 7 avril à 19h  \nChristian Savary & Jessie Kobel  \nComédie  \nDurée : 1h10\nConseillé dès 12 ans \n  \nUn irrésistible huis clos pour deux personnages.  \nMichel est un cambrioleur chevronné qui a l’habitude de travailler seul.  \nLe temps d’un casse\, il s’associe à Serge\, un véritable looser. Après un cambriolage manqué\, un interrogatoire musclé et un procès raté\, nos deux gangsters vont se retrouvés enfermés dans la même cellule. Mais quand l’un d’entre eux n’en possède pas\, de cellule grise\, l’autre va devoir contrôler ses nerfs…  \n« Magnifiquement huilée\, la mécanique de cette pièce fonctionne comme une horloge. Une manière de s’évader par le rire. » Philippe Muri\, Tribune de Genève  \n  \nTexte : Christian Savary & Jessie Kobel / Mise en scène : Christian Savary / Collaboration artistique : Pierre Aucaigne / Photos : Pierre Vogel \nBilletterie  \nTarif unique 30.-  \n 
URL:https://www.grand-champ.ch/evenement/une-cellule-grise-pour-2-3/
LOCATION:Salle des Colonnes\, Chem. de la Serine 2\, Gland\, 1196
CATEGORIES:9S et plus,Humour et comédie
ATTACH;FMTTYPE=image/png:https://www.grand-champ.ch/wp-content/uploads/2025/08/44.-une-cellule-grise-pour-2-scaled.png
END:VEVENT
BEGIN:VEVENT
DTSTART;VALUE=DATE:20260520
DTEND;VALUE=DATE:20260522
DTSTAMP:20260422T021050
CREATED:20250807T124434Z
LAST-MODIFIED:20260401T141938Z
UID:10000048-1779235200-1779407999@www.grand-champ.ch
SUMMARY:Lapin Lapin
DESCRIPTION:Mercredi à 19h \nJeudi à 20h  \nColine Serreau\nCie la Fourmilière \nComédie \nLa représentation du jeudi 21 mai est proposée en audiodescription par l’Association Ecoute Voir.\nRéservations pour les personnes en situation de handicap visuel:visuel : AD@ecoute-voir.org ou 079 893 26 15 \nCette comédie théâtrale de Coline Serreau met en scène une famille nombreuse aussi excentrique qu’attachante\, jonglant avec les difficultés du quotidien tout en cultivant une joie de vivre contagieuse.   \nAu cœur de cette histoire\, Mama Lapin incarne une mère courageuse et inébranlablement optimiste\, qui tente de préserver l’harmonie familiale pour faire face à un monde absurde et hostile.   \nLes textes de Coline Serreau (Trois hommes et un couffin\, La belle verte\, La crise\,…) sont ciselés comme de la dentelle\, mariant habilement l’humour et l’absurde à une critique sociale caustique.  \nAvec un regard extrêmement lucide et bienveillant\, elle parvient à raconter des histoires ou l’humour\, la critique sociétale et l’humanité des personnages embarquent le spectateur dès les premières minutes\, pour ne plus le lâcher.  \n  \nMise en scène : Sarah Marcuse / Assistante mise en scène : Sandrine Tindilière / Avec: Dominique Gübser\, Caroline Cons\, Frédéric Landenberg\, Maud Faucherre\, Mirko Verdesca\, Thomas Di Genova\, Philippe Pfortner\, Roméo Ruotolo\, Vidal Arzoni\, Flavie Tapparel  / Scénographie / accessoires : Khaled Khouri / Création lumière : Loane Ruga / Perruques & Coiffures : Katrine Zingg / Graphisme : Burolabo / Carine Crausaz / Production : Cie La Fourmilière\, Théâtre Alchimic \nBilletterie\nCHF 35.- tarif réduit / CHF 45.- plein tarif
URL:https://www.grand-champ.ch/evenement/lapin-lapin/
LOCATION:Théâtre de Grand-Champ\, Chemin de la Serine 2\, Gland\, 1196
CATEGORIES:9S et plus,audiodescription,Humour et comédie
ATTACH;FMTTYPE=image/png:https://www.grand-champ.ch/wp-content/uploads/2025/08/54.-lapin-lapin-scaled.png
END:VEVENT
END:VCALENDAR