BEGIN:VCALENDAR
VERSION:2.0
PRODID:-//Théâtre de Grand-Champ à Gland - ECPv6.15.20//NONSGML v1.0//EN
CALSCALE:GREGORIAN
METHOD:PUBLISH
X-ORIGINAL-URL:https://www.grand-champ.ch
X-WR-CALDESC:Évènements pour Théâtre de Grand-Champ à Gland
REFRESH-INTERVAL;VALUE=DURATION:PT1H
X-Robots-Tag:noindex
X-PUBLISHED-TTL:PT1H
BEGIN:VTIMEZONE
TZID:Europe/Paris
BEGIN:DAYLIGHT
TZOFFSETFROM:+0100
TZOFFSETTO:+0200
TZNAME:CEST
DTSTART:20250330T010000
END:DAYLIGHT
BEGIN:STANDARD
TZOFFSETFROM:+0200
TZOFFSETTO:+0100
TZNAME:CET
DTSTART:20251026T010000
END:STANDARD
BEGIN:DAYLIGHT
TZOFFSETFROM:+0100
TZOFFSETTO:+0200
TZNAME:CEST
DTSTART:20260329T010000
END:DAYLIGHT
BEGIN:STANDARD
TZOFFSETFROM:+0200
TZOFFSETTO:+0100
TZNAME:CET
DTSTART:20261025T010000
END:STANDARD
BEGIN:DAYLIGHT
TZOFFSETFROM:+0100
TZOFFSETTO:+0200
TZNAME:CEST
DTSTART:20270328T010000
END:DAYLIGHT
BEGIN:STANDARD
TZOFFSETFROM:+0200
TZOFFSETTO:+0100
TZNAME:CET
DTSTART:20271031T010000
END:STANDARD
END:VTIMEZONE
BEGIN:VEVENT
DTSTART;TZID=Europe/Paris:20260418T103000
DTEND;TZID=Europe/Paris:20260528T200000
DTSTAMP:20260421T145705
CREATED:20260416T090231Z
LAST-MODIFIED:20260416T090231Z
UID:10000109-1776508200-1779998400@www.grand-champ.ch
SUMMARY:Série TTP – Une rencontre éphémère - Hayahisa Tomiyasu
DESCRIPTION:Parallèlement aux projections\, Visions du Réel consacre cette année une exposition à la série TTP du photographe japonais Hayahisa Tomiyasu qui sera visible du 18 avril au 28 mai au Théâtre de Grand Champ\, à Gland. Au cœur de l’identité visuelle de la 57e édition de Visions du Réel\, la série TTP forme une collection photographique capturée par l’artiste japonais depuis la fenêtre de son appartement. Saluées par la critique\, les images mettent en scène une table de ping-pong dans un espace urbain\, dont la composition visuelle varie au fil du temps et au gré des saisons. En enregistrant pendant cinq ans la vie autour d’une seule et même table de ping-pong\, Hayahisa Tomiyasu l’appréhende non seulement dans son statut de décor mais aussi en tant que témoin du passage du temps. Les affiches du Festival empruntent certaines de ces photographies qui\, au-delà de la dimension sérielle et temporelle pouvant évoquer le cinéma\, témoignent de l’humour ou de l’absurdité qui parfois émanent du quotidien. Cette exposition s’inscrit dans la collaboration entre Visions du Réel\, la Ville de Gland et le Théâtre de Grand Champ ainsi que le studio de graphisme genevois Neo Neo. \nPlus d’informations sur l’exposition photo \nHoraires de l’exposition\nSamedi 18 avril 10:30 – 22:30 (Vernissage dès 18:30 en présence du photographe)\nDimanche 19 avril 10:30 – 22:00\nSamedi 25 avril 18:00 – 21:00\nDimanche 26 avril 16:00 – 19:00\nMercredi 29 avril 10:00 – 12:00 + 18:30 – 21:00\nJeudi 30 avril 13:30 – 16:30 + 18:00 – 20:00\nVendredi 1er mai 18:00 – 20:00\nSamedi 2 mai 18:00 – 20:00\nJeudi 7 mai 18:00 – 20:30\nDimanche 10 mai 10:00 – 12:00 + 16:00 – 18:00\nMercredi 13 mai 10:00 – 11:30 + 15:30 – 17:00\nMercredi 20 mai 18:00 – 20:00\nJeudi 21 mai 19:00 – 21:00\nMercredi 27 mai 10:00 – 12:00 + 18:30 – 21:00\nJeudi 28 mai 13:30 – 16:30 + 18:00 – 20:00
URL:https://www.grand-champ.ch/evenement/serie-ttp-une-rencontre-ephemere-hayahisa-tomiyasu/
LOCATION:Théâtre de Grand-Champ\, Chemin de la Serine 2\, Gland\, 1196
CATEGORIES:Expos,Festivals
ATTACH;FMTTYPE=image/jpeg:https://www.grand-champ.ch/wp-content/uploads/2026/03/VdR26_Affiche_Expo_Gland_A1_print-scaled.jpg
END:VEVENT
BEGIN:VEVENT
DTSTART;VALUE=DATE:20260510
DTEND;VALUE=DATE:20260511
DTSTAMP:20260421T145705
CREATED:20250807T123115Z
LAST-MODIFIED:20251008T095413Z
UID:10000047-1778371200-1778457599@www.grand-champ.ch
SUMMARY:Lavomatic
DESCRIPTION:Dimanche 10 à 11h & 17h   \nCie Sandra Gaudin \nLa petite saison  \nDès 7 ans\nDurée : 1h05  \nDans une laverie réservée aux personnages de contes et aux super-héros\, nous assistons à la rencontre imprévue entre une princesse\, un loup\, Spiderman et Harry Potter.    \nBien obligés de nettoyer leurs vêtements de temps en temps\, ils doivent affronter cette étape délicate : enlever leur costume\, le placer dans la machine et attendre sur place la fin du programme de lavage\, pour pouvoir finalement se rhabiller et retourner à leur histoire respective.   \nMais rien ne se passe comme prévu. La machine s’emballe et ils se retrouvent malgré eux embarqués dans une aventure extraordinaire. Privés de leurs super-pouvoirs\, ils doivent trouver ensemble d’autres ressources pour récupérer leurs costumes… et leurs identités.  \n  \nMise en scène : Sandra Gaudin  / Texte : Hélène Cattin et Sandra Gaudin / Jeu : Hugo Braillard\, Céline Goormaghtigh\, Victor Poltier et Christian Scheidt / Scénographie et lumière : Christophe Pitoiset / Musique : Alberto Malo / Vidéo : Francesco Cesalli / Son : Bernard Amaudruz / Costumes : Eléonore Cassaigneau / Maquillage : Sonia Geneux\nConstruction : Frédéric Baudoin assisté de Solène Fuehrer / Régies : Bernard Amaudruz et Guillaume Gex / Photos : Philippe Pache  \n  Billetterie \nTarif unique 18.-  \nLes élèves de 6P de l’établissement primaire de Gland viendront voir ce spectacle en représentation scolaire.
URL:https://www.grand-champ.ch/evenement/lavomatic/
CATEGORIES:4P,5P,6P,7P,Petite saison
ATTACH;FMTTYPE=image/png:https://www.grand-champ.ch/wp-content/uploads/2025/08/52.-Lavomatic-scaled.png
END:VEVENT
END:VCALENDAR