BEGIN:VCALENDAR
VERSION:2.0
PRODID:-//Théâtre de Grand-Champ à Gland - ECPv6.15.20//NONSGML v1.0//EN
CALSCALE:GREGORIAN
METHOD:PUBLISH
X-WR-CALNAME:Théâtre de Grand-Champ à Gland
X-ORIGINAL-URL:https://www.grand-champ.ch
X-WR-CALDESC:Évènements pour Théâtre de Grand-Champ à Gland
REFRESH-INTERVAL;VALUE=DURATION:PT1H
X-Robots-Tag:noindex
X-PUBLISHED-TTL:PT1H
BEGIN:VTIMEZONE
TZID:Europe/Paris
BEGIN:DAYLIGHT
TZOFFSETFROM:+0100
TZOFFSETTO:+0200
TZNAME:CEST
DTSTART:20250330T010000
END:DAYLIGHT
BEGIN:STANDARD
TZOFFSETFROM:+0200
TZOFFSETTO:+0100
TZNAME:CET
DTSTART:20251026T010000
END:STANDARD
BEGIN:DAYLIGHT
TZOFFSETFROM:+0100
TZOFFSETTO:+0200
TZNAME:CEST
DTSTART:20260329T010000
END:DAYLIGHT
BEGIN:STANDARD
TZOFFSETFROM:+0200
TZOFFSETTO:+0100
TZNAME:CET
DTSTART:20261025T010000
END:STANDARD
BEGIN:DAYLIGHT
TZOFFSETFROM:+0100
TZOFFSETTO:+0200
TZNAME:CEST
DTSTART:20270328T010000
END:DAYLIGHT
BEGIN:STANDARD
TZOFFSETFROM:+0200
TZOFFSETTO:+0100
TZNAME:CET
DTSTART:20271031T010000
END:STANDARD
END:VTIMEZONE
BEGIN:VEVENT
DTSTART;TZID=Europe/Paris:20260319T140000
DTEND;TZID=Europe/Paris:20260319T154000
DTSTAMP:20260422T104349
CREATED:20260224T082406Z
LAST-MODIFIED:20260224T082406Z
UID:10000095-1773928800-1773934800@www.grand-champ.ch
SUMMARY:Les enfants de la résistance / Ciné-seniors
DESCRIPTION:Réalisé par Christophe Barratier\nAvec : Vanessa Guide\, Gérard Jugnot\, Artus\n2026\nAventure\, Drame\, Famille\, Historique\nDurée : 1h35\nÂge légal : 8 ans\nÂge suggéré : 10 ans \n  \nPendant l’occupation allemande durant la Seconde Guerre mondiale\, François\, Eusèbe et Lisa\, trois enfants courageux\, se lancent dans une aventure secrète : résister aux nazis en plein cœur de la France. Sabotages\, messages cachés et évasions périlleuses\, ils mènent des actions clandestines sous le nez de l’ennemi. L’audace et l’amitié sont leurs seules armes pour lutter contre l’injustice. \nÀ l’issue de chaque projection\, un goûter convivial est offert en collaboration avec Pro Senectute. \nBilletterie\n\n 
URL:https://www.grand-champ.ch/evenement/les-enfants-de-la-resistance-cine-seniors/
LOCATION:Théâtre de Grand-Champ\, Chemin de la Serine 2\, Gland\, 1196
CATEGORIES:Cinéma
ATTACH;FMTTYPE=image/png:https://www.grand-champ.ch/wp-content/uploads/2026/02/cine-mars2-scaled.png
END:VEVENT
BEGIN:VEVENT
DTSTART;TZID=Europe/Paris:20260319T183000
DTEND;TZID=Europe/Paris:20260319T203000
DTSTAMP:20260422T104349
CREATED:20250818T070240Z
LAST-MODIFIED:20250818T070240Z
UID:10000062-1773945000-1773952200@www.grand-champ.ch
SUMMARY:King Louis Swing Orchestra
DESCRIPTION:Afterwork jazz-swing  \nSi vous aimez le swing de Count Basie et le jump blues de Louis Jordan\, que vos jambes ne tiennent pas en place quand Duke Ellingtonse met à jouer et que vous rêvez d’entendre les standards de Frank Sinatra\, Nat King Cole ou Cab Calloway réunis lors d’une même soirée\, alors vous allez vous entendre avec le King Louis Swing Orchestra.   \nAvec sa douce folie\, son énergie et ses arrangements maison\, ce groupe capable d’invoquer tous les plus grands maîtres du jazz saura vous faire danser.  \nBatterie : Théo Missillier / Vocal : Frédéric Brodard / Trombone : William Jacquemet  / Saxophones alto\, ténor et baryton : Micäel Vuataz  / Contrebasse : Gaspard Colin / Guitare : Edwin Correia  \n  \n\n Les afterworks\, entièrement gratuits\, se tiennent au Foyer du Théâtre à 18h30. Ouverts à tous\, ils offrent un moment convivial pour partager musique et découvertes\, que ce soit entre amis\, en famille ou après une journée de travail.\n C’est aussi l’occasion de découvrir des artistes prometteurs qui ne manqueront pas de faire parler d’eux !  \nAucune réservation n’est requise : les portes ouvrent dès 18h\, et les premiers arrivés sont les premiers assis. 
URL:https://www.grand-champ.ch/evenement/king-louis-swing-orchestra/
CATEGORIES:Afterwork
ATTACH;FMTTYPE=image/png:https://www.grand-champ.ch/wp-content/uploads/2025/08/51.-King-Louis-Swing-Orchestra-scaled.png
END:VEVENT
END:VCALENDAR