BEGIN:VCALENDAR
VERSION:2.0
PRODID:-//Théâtre de Grand-Champ à Gland - ECPv6.15.20//NONSGML v1.0//EN
CALSCALE:GREGORIAN
METHOD:PUBLISH
X-ORIGINAL-URL:https://www.grand-champ.ch
X-WR-CALDESC:Évènements pour Théâtre de Grand-Champ à Gland
REFRESH-INTERVAL;VALUE=DURATION:PT1H
X-Robots-Tag:noindex
X-PUBLISHED-TTL:PT1H
BEGIN:VTIMEZONE
TZID:Europe/Paris
BEGIN:DAYLIGHT
TZOFFSETFROM:+0100
TZOFFSETTO:+0200
TZNAME:CEST
DTSTART:20240331T010000
END:DAYLIGHT
BEGIN:STANDARD
TZOFFSETFROM:+0200
TZOFFSETTO:+0100
TZNAME:CET
DTSTART:20241027T010000
END:STANDARD
BEGIN:DAYLIGHT
TZOFFSETFROM:+0100
TZOFFSETTO:+0200
TZNAME:CEST
DTSTART:20250330T010000
END:DAYLIGHT
BEGIN:STANDARD
TZOFFSETFROM:+0200
TZOFFSETTO:+0100
TZNAME:CET
DTSTART:20251026T010000
END:STANDARD
BEGIN:DAYLIGHT
TZOFFSETFROM:+0100
TZOFFSETTO:+0200
TZNAME:CEST
DTSTART:20260329T010000
END:DAYLIGHT
BEGIN:STANDARD
TZOFFSETFROM:+0200
TZOFFSETTO:+0100
TZNAME:CET
DTSTART:20261025T010000
END:STANDARD
END:VTIMEZONE
BEGIN:VEVENT
DTSTART;VALUE=DATE:20251203
DTEND;VALUE=DATE:20251204
DTSTAMP:20260422T001509
CREATED:20250806T095425Z
LAST-MODIFIED:20250815T085616Z
UID:10000023-1764720000-1764806399@www.grand-champ.ch
SUMMARY:Il était une fois le violon – Pøl & Norr
DESCRIPTION:Mercredi à 10h30 & 16h \nConte musical \nA découvrir dès 3 ans\nDurée 30 min \nÉveiller les tout-petits à la magie de la musique et du spectacle : telle est l’ambition de cette belle aventure artistique.\nChaque mois\, des histoires et des créations musicales viennent nourrir l’imaginaire des plus jeunes\, avant de les inviter à vivre l’expérience du spectacle en salle.\nPortés par la voix d’une comédienne et les notes d’une violoniste\, les personnages des contes s’animent\, vibrent\, prennent vie… et font résonner la musique dans les cœurs et les petites oreilles. \nPøl & Norr\nPøl vit seule au Pôle Nord. Norr vit seul aussi au Pôle Nord. Jusqu’au jour où Pøl rencontre Norr.\nL’histoire désopilante d’une amitié peu ordinaire\, capable de réchauffer un cœur polaire !  \nJeu : Laurence Morisot / Musique et composition : Clémentine Leblanc / Scénographie et régie son: Thomas Leblanc / Texte : Kashelle Gourley et Skylar Hogan / Coproduction : Cie Jolla & Théâtre de Grand-Champ / Photos : Anne Colliard \nBilletterie
URL:https://www.grand-champ.ch/evenement/il-etait-une-fois-le-violon-pol-norr/
LOCATION:Théâtre de Grand-Champ\, Chemin de la Serine 2\, Gland\, 1196
CATEGORIES:1P-2P,crèches,Petite saison
ATTACH;FMTTYPE=image/png:https://www.grand-champ.ch/wp-content/uploads/2025/08/23.-Il-etait-une-fois-le-violon-–-Pol-Norr-scaled.png
END:VEVENT
END:VCALENDAR