BEGIN:VCALENDAR
VERSION:2.0
PRODID:-//Théâtre de Grand-Champ à Gland - ECPv6.15.20//NONSGML v1.0//EN
CALSCALE:GREGORIAN
METHOD:PUBLISH
X-ORIGINAL-URL:https://www.grand-champ.ch
X-WR-CALDESC:Évènements pour Théâtre de Grand-Champ à Gland
REFRESH-INTERVAL;VALUE=DURATION:PT1H
X-Robots-Tag:noindex
X-PUBLISHED-TTL:PT1H
BEGIN:VTIMEZONE
TZID:Europe/Paris
BEGIN:DAYLIGHT
TZOFFSETFROM:+0100
TZOFFSETTO:+0200
TZNAME:CEST
DTSTART:20240331T010000
END:DAYLIGHT
BEGIN:STANDARD
TZOFFSETFROM:+0200
TZOFFSETTO:+0100
TZNAME:CET
DTSTART:20241027T010000
END:STANDARD
BEGIN:DAYLIGHT
TZOFFSETFROM:+0100
TZOFFSETTO:+0200
TZNAME:CEST
DTSTART:20250330T010000
END:DAYLIGHT
BEGIN:STANDARD
TZOFFSETFROM:+0200
TZOFFSETTO:+0100
TZNAME:CET
DTSTART:20251026T010000
END:STANDARD
BEGIN:DAYLIGHT
TZOFFSETFROM:+0100
TZOFFSETTO:+0200
TZNAME:CEST
DTSTART:20260329T010000
END:DAYLIGHT
BEGIN:STANDARD
TZOFFSETFROM:+0200
TZOFFSETTO:+0100
TZNAME:CET
DTSTART:20261025T010000
END:STANDARD
END:VTIMEZONE
BEGIN:VEVENT
DTSTART;TZID=Europe/Paris:20251116T110000
DTEND;TZID=Europe/Paris:20251116T115500
DTSTAMP:20260421T234956
CREATED:20250818T074054Z
LAST-MODIFIED:20250819T064314Z
UID:10000065-1763290800-1763294100@www.grand-champ.ch
SUMMARY:La familiomédie
DESCRIPTION:La Comédie musicale improvisée   \nLa petite saison   \n  \nDès 7 ans\nDurée : 55 min \nUne journée placée sous le thème de la comédie musicale\, parce qu’on adore ça ! Celle-ci sera doublement particulière en commençant le matin par la version spécialement destinée au jeune public. Et rendez-vous à 17h avec la version « pour les grands »! \nÀ partir de quelques suggestions glanées parmi le public\, ces virtuoses du verbe et de la rime sculptent des mélodies “en live” et nous font vivre une comédie musicale totalement improvisée. \nQuelques touches de Walt Disney\, deux ou trois bidules échappés d’un Pixar\, un peu de Tim Burton et de la folie pianistique : découvrez un conte musical improvisé où les enfants ont leur mot à dire et leur refrain à chanter ! Quatre artistes de la CMI vont bricoler\, bruiter\, bredouiller et butiner une histoire exclusive à quatre voix pour ravir les mômes et réjouir les gnomes. \n  \nConception : Odile Cantero\, Judith Goudal\, Grégoire Leresche\, Lionel Perrinjaquet\, Yvan RichardetMusique improvisée (en alternance) : Jérôme Delaloye\, Renaud Delay\, Lucas Buclin / Interprétation : Les membres de La Comédie Musicale Improvisée / Photos : Bastien Monachon \n  \nBilletterie\nTarif unique CHF 18.-
URL:https://www.grand-champ.ch/evenement/la-familiomedie/
CATEGORIES:4P,5P,6P,7P,8P,Petite saison
ATTACH;FMTTYPE=image/png:https://www.grand-champ.ch/wp-content/uploads/2025/08/12.-la-familiomedie-1.png
END:VEVENT
BEGIN:VEVENT
DTSTART;TZID=Europe/Paris:20251116T170000
DTEND;TZID=Europe/Paris:20251116T183000
DTSTAMP:20260421T234956
CREATED:20250818T075147Z
LAST-MODIFIED:20250819T064458Z
UID:10000066-1763312400-1763317800@www.grand-champ.ch
SUMMARY:La comédie musicale improvisée
DESCRIPTION:La comédie musicale improvisée \nComédie musicale \nDurée : 1h30\nConseillé dès 12 ans \nLa comédie musicale improvisée propose son spectacle « pour les grand » : trois suggestions et place au spectacle\, chanté\, joué et dansé par la crème de l’improvisation romande ! À chaque spectacle\, une nouvelle performance époustouflante à découvrir : à partir d’une suggestion du public\, six virtuoses du verbe sculptent rimes et mélodies pour se sublimer dans une comédie musicale éphémère et exclusive. Une célébration jubilatoire qui voltige entre répliques et claquettes\, qui balance entre batterie et trompette\, qui navigue entre poésie et pâquerettes.  \n  \nDirection artistique : Yvan Richardet / Musique improvisée Lucas Buclin\, Jérôme Delaloye\, Renaud Delay\,Manon Mullener\, Natan Niddam / Interprétation (en alternance) : Florence Annoni\, Blaise Bersinger Alain Borek\, Odile Cantero Renaud Delay\, Mélanie Foulon Aude Gilliéron\, Baptiste Gilliéron Judith Goudal\, Laura Guerrero\, Caroline Imhof\, Grégoire Leresche Quentin Lo Russo\, Lionel Perrinjaquet Yvan Richardet / Photos : Bastien Monachon  \n  \nBilletterie\nCHF 30.- Tarif réduit / CHF 38.- Plein tarif 
URL:https://www.grand-champ.ch/evenement/la-comedie-musicale-improvisee/
CATEGORIES:Spectacle musical
ATTACH;FMTTYPE=image/png:https://www.grand-champ.ch/wp-content/uploads/2025/08/13.-la-comedie-musicale-improvisee-scaled.png
END:VEVENT
END:VCALENDAR